Package: GenomicScores Version: 2.19.0 Command: /home/biocbuild/R/R/bin/R CMD build --keep-empty-dirs --no-resave-data GenomicScores StartedAt: 2025-01-28 23:08:26 -0000 (Tue, 28 Jan 2025) EndedAt: 2025-01-28 23:11:14 -0000 (Tue, 28 Jan 2025) EllapsedTime: 168.1 seconds RetCode: 0 Status: OK PackageFile: GenomicScores_2.19.0.tar.gz PackageFileSize: 1.489 MiB