Package: GenomicScores Version: 2.21.0 Command: rm -rf GenomicScores.buildbin-libdir && mkdir GenomicScores.buildbin-libdir && /Users/biocbuild/BBS/utils/build-universal.sh GenomicScores_2.21.0.tar.gz /Library/Frameworks/R.framework/Resources/bin/R GenomicScores.buildbin-libdir StartedAt: 2025-05-20 22:09:06 -0400 (Tue, 20 May 2025) EndedAt: 2025-05-20 22:09:19 -0400 (Tue, 20 May 2025) EllapsedTime: 13.3 seconds RetCode: 0 Status: OK PackageFile: GenomicScores_2.21.0.tgz PackageFileSize: 2.079 MiB