Package: GenomicRanges Version: 1.61.5 Command: /home/biocbuild/bbs-3.22-bioc/R/bin/R CMD INSTALL GenomicRanges StartedAt: 2025-09-30 15:15:03 -0400 (Tue, 30 Sep 2025) EndedAt: 2025-09-30 15:15:24 -0400 (Tue, 30 Sep 2025) EllapsedTime: 20.6 seconds RetCode: 0 Status: OK