Package: GenomicRanges Version: 1.59.1 Command: /home/biocbuild/bbs-3.21-bioc/R/bin/R CMD INSTALL GenomicRanges StartedAt: 2025-02-16 15:20:04 -0500 (Sun, 16 Feb 2025) EndedAt: 2025-02-16 15:20:24 -0500 (Sun, 16 Feb 2025) EllapsedTime: 20.3 seconds RetCode: 0 Status: OK