Package: GenomicRanges Version: 1.61.0 Command: /Library/Frameworks/R.framework/Resources/bin/R CMD INSTALL GenomicRanges StartedAt: 2025-05-05 15:09:55 -0400 (Mon, 05 May 2025) EndedAt: 2025-05-05 15:10:04 -0400 (Mon, 05 May 2025) EllapsedTime: 8.5 seconds RetCode: 0 Status: OK