Package: GenomicRanges Version: 1.61.0 Command: /Library/Frameworks/R.framework/Resources/bin/R CMD check --install=check:GenomicRanges.install-out.txt --library=/Library/Frameworks/R.framework/Resources/library --no-vignettes --timings GenomicRanges_1.61.0.tar.gz StartedAt: 2025-05-06 19:46:52 -0400 (Tue, 06 May 2025) EndedAt: 2025-05-06 19:48:34 -0400 (Tue, 06 May 2025) EllapsedTime: 102.0 seconds RetCode: 0 Status: OK CheckDir: GenomicRanges.Rcheck Warnings: 0