Package: GenomicPlot Version: 1.7.2 Command: rm -rf GenomicPlot.buildbin-libdir && mkdir GenomicPlot.buildbin-libdir && F:\biocbuild\bbs-3.22-bioc\R\bin\R.exe CMD INSTALL --build --library=GenomicPlot.buildbin-libdir GenomicPlot_1.7.2.tar.gz StartedAt: 2025-08-15 10:21:47 -0400 (Fri, 15 Aug 2025) EndedAt: 2025-08-15 10:23:02 -0400 (Fri, 15 Aug 2025) EllapsedTime: 74.5 seconds RetCode: 0 Status: OK PackageFile: GenomicPlot_1.7.2.zip PackageFileSize: 1.913 MiB