Package: GenomicPlot Version: 1.9.0 Maintainer: Shuye Pu MaintainerEmail: shuye2009 at gmail.com git_url: https://git.bioconductor.org/packages/GenomicPlot git_branch: devel git_last_commit: 6794637 git_last_commit_date: 2025-10-29 11:24:51 -0400 (Wed, 29 Oct 2025)