Package: GenomicOZone Version: 1.23.0 Command: /Library/Frameworks/R.framework/Resources/bin/R CMD INSTALL GenomicOZone StartedAt: 2025-05-09 15:39:12 -0400 (Fri, 09 May 2025) EndedAt: 2025-05-09 15:40:44 -0400 (Fri, 09 May 2025) EllapsedTime: 91.2 seconds RetCode: 0 Status: OK