Package: GenomicInteractions Version: 1.43.1 Command: /home/biocbuild/bbs-3.22-bioc/R/bin/R CMD INSTALL GenomicInteractions StartedAt: 2025-10-08 16:06:35 -0400 (Wed, 08 Oct 2025) EndedAt: 2025-10-08 16:08:37 -0400 (Wed, 08 Oct 2025) EllapsedTime: 122.8 seconds RetCode: 0 Status: OK