Package: GenomicInteractions Version: 1.43.0 Maintainer: Liz Ing-Simmons MaintainerEmail: liz.ingsimmons at gmail.com git_url: https://git.bioconductor.org/packages/GenomicInteractions git_branch: devel git_last_commit: df13b4b git_last_commit_date: 2025-04-15 10:34:28 -0400 (Tue, 15 Apr 2025)