Package: GenomicInteractionNodes Version: 1.13.1 Command: rm -rf GenomicInteractionNodes.buildbin-libdir && mkdir GenomicInteractionNodes.buildbin-libdir && F:\biocbuild\bbs-3.22-bioc\R\bin\R.exe CMD INSTALL --build --library=GenomicInteractionNodes.buildbin-libdir GenomicInteractionNodes_1.13.1.tar.gz StartedAt: 2025-08-15 10:21:39 -0400 (Fri, 15 Aug 2025) EndedAt: 2025-08-15 10:22:56 -0400 (Fri, 15 Aug 2025) EllapsedTime: 76.9 seconds RetCode: 0 Status: OK PackageFile: GenomicInteractionNodes_1.13.1.zip PackageFileSize: 277.1 KiB