Package: GenomicInteractionNodes Version: 1.11.1 Command: E:\biocbuild\bbs-3.21-bioc\R\bin\R.exe CMD INSTALL GenomicInteractionNodes StartedAt: 2025-02-03 16:36:16 -0500 (Mon, 03 Feb 2025) EndedAt: 2025-02-03 16:37:02 -0500 (Mon, 03 Feb 2025) EllapsedTime: 46.0 seconds RetCode: 0 Status: OK