Package: GenomicInteractionNodes Version: 1.11.3 Command: /home/biocbuild/bbs-3.21-bioc/R/bin/R CMD build --keep-empty-dirs --no-resave-data GenomicInteractionNodes StartedAt: 2025-02-19 17:22:55 -0500 (Wed, 19 Feb 2025) EndedAt: 2025-02-19 17:24:38 -0500 (Wed, 19 Feb 2025) EllapsedTime: 103.1 seconds RetCode: 0 Status: OK PackageFile: GenomicInteractionNodes_1.11.3.tar.gz PackageFileSize: 248.6 KiB