Package: GenomicInteractionNodes Version: 1.11.1 Command: /Library/Frameworks/R.framework/Resources/bin/R CMD INSTALL GenomicInteractionNodes StartedAt: 2025-02-03 15:23:12 -0500 (Mon, 03 Feb 2025) EndedAt: 2025-02-03 15:23:56 -0500 (Mon, 03 Feb 2025) EllapsedTime: 44.0 seconds RetCode: 0 Status: OK