Package: GenomicInteractionNodes Version: 1.11.1 Command: /home/biocbuild/R/R/bin/R CMD INSTALL GenomicInteractionNodes StartedAt: 2025-01-29 19:51:09 -0000 (Wed, 29 Jan 2025) EndedAt: 2025-01-29 19:51:56 -0000 (Wed, 29 Jan 2025) EllapsedTime: 46.9 seconds RetCode: 0 Status: OK