Package: GenomicInteractionNodes Version: 1.11.3 Command: /Library/Frameworks/R.framework/Resources/bin/R CMD INSTALL GenomicInteractionNodes StartedAt: 2025-02-20 15:09:17 -0500 (Thu, 20 Feb 2025) EndedAt: 2025-02-20 15:09:31 -0500 (Thu, 20 Feb 2025) EllapsedTime: 13.4 seconds RetCode: 0 Status: OK