Package: GenomicInteractionNodes Version: 1.11.3 Command: /Library/Frameworks/R.framework/Resources/bin/R CMD check --install=check:GenomicInteractionNodes.install-out.txt --library=/Library/Frameworks/R.framework/Resources/library --no-vignettes --timings GenomicInteractionNodes_1.11.3.tar.gz StartedAt: 2025-02-19 19:28:25 -0500 (Wed, 19 Feb 2025) EndedAt: 2025-02-19 19:30:54 -0500 (Wed, 19 Feb 2025) EllapsedTime: 149.7 seconds RetCode: 0 Status: OK CheckDir: GenomicInteractionNodes.Rcheck Warnings: 0