Package: GenomicInteractionNodes Version: 1.11.3 Command: rm -rf GenomicInteractionNodes.buildbin-libdir && mkdir GenomicInteractionNodes.buildbin-libdir && /Users/biocbuild/BBS/utils/build-universal.sh GenomicInteractionNodes_1.11.3.tar.gz /Library/Frameworks/R.framework/Resources/bin/R GenomicInteractionNodes.buildbin-libdir StartedAt: 2025-02-19 22:23:20 -0500 (Wed, 19 Feb 2025) EndedAt: 2025-02-19 22:23:35 -0500 (Wed, 19 Feb 2025) EllapsedTime: 15.3 seconds RetCode: 0 Status: OK PackageFile: GenomicInteractionNodes_1.11.3.tgz PackageFileSize: 274.1 KiB