Package: GenomicFiles Version: 1.45.0 Command: rm -rf GenomicFiles.buildbin-libdir && mkdir GenomicFiles.buildbin-libdir && /Users/biocbuild/BBS/utils/build-universal.sh GenomicFiles_1.45.0.tar.gz /Library/Frameworks/R.framework/Resources/bin/R GenomicFiles.buildbin-libdir StartedAt: 2025-05-16 00:31:53 -0400 (Fri, 16 May 2025) EndedAt: 2025-05-16 00:32:52 -0400 (Fri, 16 May 2025) EllapsedTime: 58.6 seconds RetCode: 0 Status: OK PackageFile: GenomicFiles_1.45.0.tgz PackageFileSize: 1.004 MiB