Package: GenomicFiles Version: 1.45.2 Command: /Library/Frameworks/R.framework/Resources/bin/R CMD INSTALL GenomicFiles StartedAt: 2025-07-25 15:28:45 -0400 (Fri, 25 Jul 2025) EndedAt: 2025-07-25 15:29:01 -0400 (Fri, 25 Jul 2025) EllapsedTime: 16.6 seconds RetCode: 0 Status: OK