Package: GenomicFiles Version: 1.45.0 Command: /Library/Frameworks/R.framework/Resources/bin/R CMD check --install=check:GenomicFiles.install-out.txt --library=/Library/Frameworks/R.framework/Resources/library --no-vignettes --timings GenomicFiles_1.45.0.tar.gz StartedAt: 2025-05-19 19:15:50 -0400 (Mon, 19 May 2025) EndedAt: 2025-05-19 19:18:16 -0400 (Mon, 19 May 2025) EllapsedTime: 145.6 seconds RetCode: 0 Status: WARNINGS CheckDir: GenomicFiles.Rcheck Warnings: 1