Package: GenomicFeatures Version: 1.61.6 Command: rm -rf GenomicFeatures.buildbin-libdir && mkdir GenomicFeatures.buildbin-libdir && F:\biocbuild\bbs-3.22-bioc\R\bin\R.exe CMD INSTALL --build --library=GenomicFeatures.buildbin-libdir GenomicFeatures_1.61.6.tar.gz StartedAt: 2025-08-15 10:21:18 -0400 (Fri, 15 Aug 2025) EndedAt: 2025-08-15 10:23:06 -0400 (Fri, 15 Aug 2025) EllapsedTime: 107.5 seconds RetCode: 0 Status: OK PackageFile: GenomicFeatures_1.61.6.zip PackageFileSize: 1.349 MiB