Package: GenomicFeatures Version: 1.59.1 Command: E:\biocbuild\bbs-3.21-bioc\R\bin\R.exe CMD check --no-multiarch --install=check:GenomicFeatures.install-out.txt --library=E:\biocbuild\bbs-3.21-bioc\R\library --no-vignettes --timings GenomicFeatures_1.59.1.tar.gz StartedAt: 2025-02-06 01:55:07 -0500 (Thu, 06 Feb 2025) EndedAt: 2025-02-06 02:07:38 -0500 (Thu, 06 Feb 2025) EllapsedTime: 751.2 seconds RetCode: 0 Status: OK CheckDir: GenomicFeatures.Rcheck Warnings: 0