Package: GenomicDistributions Version: 1.17.1 Command: /Library/Frameworks/R.framework/Resources/bin/R CMD INSTALL GenomicDistributions StartedAt: 2025-05-27 15:16:38 -0400 (Tue, 27 May 2025) EndedAt: 2025-05-27 15:16:59 -0400 (Tue, 27 May 2025) EllapsedTime: 21.4 seconds RetCode: 0 Status: OK