Package: GenomicDistributions Version: 1.17.1 Command: rm -rf GenomicDistributions.buildbin-libdir && mkdir GenomicDistributions.buildbin-libdir && /Users/biocbuild/BBS/utils/build-universal.sh GenomicDistributions_1.17.1.tar.gz /Library/Frameworks/R.framework/Resources/bin/R GenomicDistributions.buildbin-libdir StartedAt: 2025-05-29 00:44:33 -0400 (Thu, 29 May 2025) EndedAt: 2025-05-29 00:44:59 -0400 (Thu, 29 May 2025) EllapsedTime: 25.4 seconds RetCode: 0 Status: OK PackageFile: GenomicDistributions_1.17.1.tgz PackageFileSize: 5.647 MiB