Package: GenomicDataCommons Version: 1.33.1 Command: /home/biocbuild/R/R/bin/R CMD INSTALL GenomicDataCommons StartedAt: 2025-10-20 20:29:30 -0000 (Mon, 20 Oct 2025) EndedAt: 2025-10-20 20:29:45 -0000 (Mon, 20 Oct 2025) EllapsedTime: 15.1 seconds RetCode: 0 Status: OK