Package: GenomicDataCommons Version: 1.33.1 Command: /home/biocbuild/R/R/bin/R CMD build --keep-empty-dirs --no-resave-data GenomicDataCommons StartedAt: 2025-10-20 23:59:08 -0000 (Mon, 20 Oct 2025) EndedAt: 2025-10-21 00:01:25 -0000 (Tue, 21 Oct 2025) EllapsedTime: 137.0 seconds RetCode: 0 Status: OK PackageFile: GenomicDataCommons_1.33.1.tar.gz PackageFileSize: 2.496 MiB