Package: GenomicDataCommons Version: 1.31.1 Command: E:\biocbuild\bbs-3.21-bioc\R\bin\R.exe CMD INSTALL GenomicDataCommons StartedAt: 2025-02-20 15:36:15 -0500 (Thu, 20 Feb 2025) EndedAt: 2025-02-20 15:38:22 -0500 (Thu, 20 Feb 2025) EllapsedTime: 127.8 seconds RetCode: 0 Status: OK