Package: GenomicDataCommons Version: 1.31.1 Command: rm -rf GenomicDataCommons.buildbin-libdir && mkdir GenomicDataCommons.buildbin-libdir && E:\biocbuild\bbs-3.21-bioc\R\bin\R.exe CMD INSTALL --build --library=GenomicDataCommons.buildbin-libdir GenomicDataCommons_1.31.1.tar.gz StartedAt: 2025-02-21 08:10:13 -0500 (Fri, 21 Feb 2025) EndedAt: 2025-02-21 08:11:20 -0500 (Fri, 21 Feb 2025) EllapsedTime: 66.9 seconds RetCode: 0 Status: OK PackageFile: GenomicDataCommons_1.31.1.zip PackageFileSize: 1.911 MiB