Package: GenomicDataCommons Version: 1.33.1 Command: /Library/Frameworks/R.framework/Resources/bin/R CMD INSTALL GenomicDataCommons StartedAt: 2025-07-25 15:09:32 -0400 (Fri, 25 Jul 2025) EndedAt: 2025-07-25 15:09:37 -0400 (Fri, 25 Jul 2025) EllapsedTime: 5.2 seconds RetCode: 0 Status: OK