Package: GenomicAlignments Version: 1.45.4 Command: /home/biocbuild/R/R/bin/R CMD build --keep-empty-dirs --no-resave-data GenomicAlignments StartedAt: 2025-10-17 01:26:14 -0000 (Fri, 17 Oct 2025) EndedAt: 2025-10-17 01:28:13 -0000 (Fri, 17 Oct 2025) EllapsedTime: 119.0 seconds RetCode: 0 Status: OK PackageFile: GenomicAlignments_1.45.4.tar.gz PackageFileSize: 2.168 MiB