Package: GenomAutomorphism Version: 1.9.1 Command: /Library/Frameworks/R.framework/Resources/bin/R CMD INSTALL GenomAutomorphism StartedAt: 2025-02-16 15:44:31 -0500 (Sun, 16 Feb 2025) EndedAt: 2025-02-16 15:45:02 -0500 (Sun, 16 Feb 2025) EllapsedTime: 31.4 seconds RetCode: 0 Status: OK