Package: GenomAutomorphism Version: 1.9.1 Command: /Library/Frameworks/R.framework/Resources/bin/R CMD check --install=check:GenomAutomorphism.install-out.txt --library=/Library/Frameworks/R.framework/Resources/library --no-vignettes --timings GenomAutomorphism_1.9.1.tar.gz StartedAt: 2025-02-16 20:32:07 -0500 (Sun, 16 Feb 2025) EndedAt: 2025-02-16 20:38:57 -0500 (Sun, 16 Feb 2025) EllapsedTime: 409.9 seconds RetCode: 0 Status: OK CheckDir: GenomAutomorphism.Rcheck Warnings: 0