Package: GeneticsPed Version: 1.71.0 Command: chmod a+r GeneticsPed -R && F:\biocbuild\bbs-3.22-bioc\R\bin\R.exe CMD build --keep-empty-dirs --no-resave-data GeneticsPed StartedAt: 2025-08-14 20:25:18 -0400 (Thu, 14 Aug 2025) EndedAt: 2025-08-14 20:26:10 -0400 (Thu, 14 Aug 2025) EllapsedTime: 51.3 seconds RetCode: 0 Status: OK PackageFile: GeneticsPed_1.71.0.tar.gz PackageFileSize: 356.3 KiB