Package: GeneticsPed Version: 1.69.0 Command: chmod a+r GeneticsPed -R && E:\biocbuild\bbs-3.21-bioc\R\bin\R.exe CMD build --keep-empty-dirs --no-resave-data GeneticsPed StartedAt: 2025-02-03 19:04:39 -0500 (Mon, 03 Feb 2025) EndedAt: 2025-02-03 19:05:01 -0500 (Mon, 03 Feb 2025) EllapsedTime: 21.2 seconds RetCode: 1 Status: ERROR PackageFile: None PackageFileSize: NA