Package: GeneticsPed Version: 1.69.0 Command: /Library/Frameworks/R.framework/Resources/bin/R CMD INSTALL GeneticsPed StartedAt: 2025-02-03 15:37:33 -0500 (Mon, 03 Feb 2025) EndedAt: 2025-02-03 15:37:39 -0500 (Mon, 03 Feb 2025) EllapsedTime: 5.9 seconds RetCode: 1 Status: ERROR