Package: GeneticsPed Version: 1.71.0 Command: rm -rf GeneticsPed.buildbin-libdir && mkdir GeneticsPed.buildbin-libdir && /Users/biocbuild/BBS/utils/build-universal.sh GeneticsPed_1.71.0.tar.gz /Library/Frameworks/R.framework/Resources/bin/R GeneticsPed.buildbin-libdir StartedAt: 2025-09-30 22:41:04 -0400 (Tue, 30 Sep 2025) EndedAt: 2025-09-30 22:41:10 -0400 (Tue, 30 Sep 2025) EllapsedTime: 6.2 seconds RetCode: 0 Status: OK PackageFile: GeneticsPed_1.71.0.tgz PackageFileSize: 826.7 KiB