Package: GeneTonic Version: 3.3.2 Command: /home/biocbuild/R/R/bin/R CMD build --keep-empty-dirs --no-resave-data GeneTonic StartedAt: 2025-10-03 00:08:59 -0000 (Fri, 03 Oct 2025) EndedAt: 2025-10-03 00:09:13 -0000 (Fri, 03 Oct 2025) EllapsedTime: 14.0 seconds RetCode: 1 Status: ERROR PackageFile: None PackageFileSize: NA