Package: GeneTonic Version: 3.3.3 Command: /home/biocbuild/bbs-3.22-bioc/R/bin/R CMD INSTALL GeneTonic StartedAt: 2025-10-27 15:50:46 -0400 (Mon, 27 Oct 2025) EndedAt: 2025-10-27 15:51:39 -0400 (Mon, 27 Oct 2025) EllapsedTime: 53.2 seconds RetCode: 0 Status: OK