Package: GeneStructureTools Version: 1.29.0 Command: /home/biocbuild/bbs-3.22-bioc/R/bin/R CMD check --install=check:GeneStructureTools.install-out.txt --library=/home/biocbuild/bbs-3.22-bioc/R/site-library --timings GeneStructureTools_1.29.0.tar.gz StartedAt: 2025-10-22 00:11:30 -0400 (Wed, 22 Oct 2025) EndedAt: 2025-10-22 00:19:19 -0400 (Wed, 22 Oct 2025) EllapsedTime: 469.4 seconds RetCode: 0 Status: OK CheckDir: GeneStructureTools.Rcheck Warnings: 0