Package: GeneStructureTools Version: 1.29.0 Command: /Library/Frameworks/R.framework/Resources/bin/R CMD INSTALL GeneStructureTools StartedAt: 2025-05-22 15:44:03 -0400 (Thu, 22 May 2025) EndedAt: 2025-05-22 15:45:11 -0400 (Thu, 22 May 2025) EllapsedTime: 68.3 seconds RetCode: 0 Status: OK