Package: GeneSelectMMD Version: 2.53.0 Command: /home/biocbuild/bbs-3.22-bioc/R/bin/R CMD INSTALL GeneSelectMMD StartedAt: 2025-09-29 15:11:44 -0400 (Mon, 29 Sep 2025) EndedAt: 2025-09-29 15:11:53 -0400 (Mon, 29 Sep 2025) EllapsedTime: 8.7 seconds RetCode: 0 Status: OK