Package: GeneRegionScan Version: 1.63.0 Command: /Library/Frameworks/R.framework/Resources/bin/R CMD check --install=check:GeneRegionScan.install-out.txt --library=/Library/Frameworks/R.framework/Resources/library --no-vignettes --timings GeneRegionScan_1.63.0.tar.gz StartedAt: 2025-02-03 20:42:28 -0500 (Mon, 03 Feb 2025) EndedAt: 2025-02-03 20:45:08 -0500 (Mon, 03 Feb 2025) EllapsedTime: 160.0 seconds RetCode: 0 Status: OK CheckDir: GeneRegionScan.Rcheck Warnings: 0