Package: GeneOverlap Version: 1.45.0 Command: /home/biocbuild/bbs-3.22-bioc/R/bin/R CMD INSTALL GeneOverlap StartedAt: 2025-10-05 15:04:07 -0400 (Sun, 05 Oct 2025) EndedAt: 2025-10-05 15:04:27 -0400 (Sun, 05 Oct 2025) EllapsedTime: 20.5 seconds RetCode: 0 Status: OK