Package: GeneNetworkBuilder Version: 1.51.0 Command: /home/biocbuild/bbs-3.22-bioc/R/bin/R CMD INSTALL GeneNetworkBuilder StartedAt: 2025-10-03 15:13:56 -0400 (Fri, 03 Oct 2025) EndedAt: 2025-10-03 15:14:13 -0400 (Fri, 03 Oct 2025) EllapsedTime: 17.0 seconds RetCode: 0 Status: OK