Package: GeneNetworkBuilder Version: 1.51.0 Command: /home/biocbuild/bbs-3.22-bioc/R/bin/R CMD build --keep-empty-dirs --no-resave-data --md5 GeneNetworkBuilder StartedAt: 2025-10-05 17:47:36 -0400 (Sun, 05 Oct 2025) EndedAt: 2025-10-05 17:56:47 -0400 (Sun, 05 Oct 2025) EllapsedTime: 550.5 seconds RetCode: 0 Status: OK PackageFile: GeneNetworkBuilder_1.51.0.tar.gz PackageFileSize: 7.379 MiB