Package: GeneMeta Version: 1.79.0 Command: /home/biocbuild/R/R/bin/R CMD INSTALL GeneMeta StartedAt: 2025-01-29 20:23:47 -0000 (Wed, 29 Jan 2025) EndedAt: 2025-01-29 20:24:11 -0000 (Wed, 29 Jan 2025) EllapsedTime: 23.8 seconds RetCode: 0 Status: OK