Package: GeneMeta Version: 1.83.0 Command: /Library/Frameworks/R.framework/Resources/bin/R CMD build --keep-empty-dirs --no-resave-data GeneMeta StartedAt: 2025-11-14 16:25:48 -0500 (Fri, 14 Nov 2025) EndedAt: 2025-11-14 16:26:03 -0500 (Fri, 14 Nov 2025) EllapsedTime: 15.2 seconds RetCode: 0 Status: OK PackageFile: GeneMeta_1.83.0.tar.gz PackageFileSize: 2.704 MiB