Package: GeneGA Version: 1.59.0 Command: /home/biocbuild/bbs-3.22-bioc/R/bin/R CMD INSTALL GeneGA StartedAt: 2025-10-08 15:17:27 -0400 (Wed, 08 Oct 2025) EndedAt: 2025-10-08 15:18:03 -0400 (Wed, 08 Oct 2025) EllapsedTime: 35.9 seconds RetCode: 0 Status: OK